BEGIN:VCALENDAR
VERSION:2.0
PRODID:-//Acme Widgets\, Inc.//NONSGML ExportToCalendar//EN
CALSCALE:GREGORIAN
BEGIN:VEVENT
DTSTAMP:20260423T115208Z
UID:dd8069c9-85d6-45c6-9a7c-f167ad117b17
DTSTART:20260424T130000
DTEND:20260424T131500
DESCRIPTION:Inspection for 85 Chestwood Crescent\, SIPPY DOWNS QLD 4556
LOCATION:85 Chestwood Crescent\, SIPPY DOWNS QLD 4556
SUMMARY:85 Chestwood Crescent\, SIPPY DOWNS QLD 4556
END:VEVENT
END:VCALENDAR
