BEGIN:VCALENDAR
VERSION:2.0
PRODID:-//Acme Widgets\, Inc.//NONSGML ExportToCalendar//EN
CALSCALE:GREGORIAN
BEGIN:VEVENT
DTSTAMP:20260423T115209Z
UID:f3c9c92f-5dde-42c8-aa28-eab0c70d6c0e
DTSTART:20260505T160000
DTEND:20260505T161500
DESCRIPTION:Inspection for 85 Chestwood Crescent\, SIPPY DOWNS QLD 4556
LOCATION:85 Chestwood Crescent\, SIPPY DOWNS QLD 4556
SUMMARY:85 Chestwood Crescent\, SIPPY DOWNS QLD 4556
END:VEVENT
END:VCALENDAR
